BEGIN:VCALENDAR
VERSION:2.0
PRODID:-//hacksw/handcal//NONSGML v1.0//EN
BEGIN:VEVENT
SUMMARY:Pas de sortie club Samedi 7/3 AM
UID:830fd805-9f96-48c8-a78a-b613ab0b704e
DTSTART:20260306T230000Z
DTEND:20260307T230000Z
LOCATION:Localisation   
CATEGORIES:Sportif
STATUS:
URL;VALUE=URI:https://cckvs.sportsregions.fr/evenements/2026/03/07/pas-de-sortie-club-samedi-73-am-2411820
END:VEVENT
END:VCALENDAR
