BEGIN:VCALENDAR
VERSION:2.0
PRODID:-//hacksw/handcal//NONSGML v1.0//EN
BEGIN:VEVENT
SUMMARY:4avril AM. Sortie a definir. Vos souhaits sont a mettre en commentaires
UID:dbe2c110-a21b-4e6a-8655-6e4b7b0a4441
DTSTART:20260403T220000Z
DTEND:20260404T220000Z
LOCATION:Localisation   
CATEGORIES:Sportif
STATUS:
URL;VALUE=URI:https://cckvs.sportsregions.fr/evenements/2026/04/04/4avril-am-sortie-a-definir-vos-souhaits-sont-a-mettre-en-commentaires-2429201
END:VEVENT
END:VCALENDAR
