BEGIN:VCALENDAR
VERSION:2.0
PRODID:-//hacksw/handcal//NONSGML v1.0//EN
BEGIN:VEVENT
SUMMARY:9/5 AM. Sortie a definir. Vos souhaits sont a mettre en commentaires.
UID:2929f317-b2fc-418b-b291-3371e5d72861
DTSTART:20260508T220000Z
DTEND:20260509T220000Z
LOCATION:Localisation   
CATEGORIES:Sportif
STATUS:
URL;VALUE=URI:https://cckvs.sportsregions.fr/evenements/2026/05/09/95-am-sortie-a-definir-vos-souhaits-sont-a-mettre-en-commentaires-2442983
END:VEVENT
END:VCALENDAR
