BEGIN:VCALENDAR
VERSION:2.0
PRODID:-//hacksw/handcal//NONSGML v1.0//EN
BEGIN:VEVENT
SUMMARY:16/6 AM. Sortie a definir. Vos souhaits sont a mettre en commentaires.
UID:ea3153de-14a8-4204-bcc0-fa68fe8ad34c
DTSTART:20260515T220000Z
DTEND:20260516T220000Z
LOCATION:Localisation   
CATEGORIES:Sportif
STATUS:
URL;VALUE=URI:https://cckvs.sportsregions.fr/evenements/2026/05/16/166-am-sortie-a-definir-vos-souhaits-sont-a-mettre-en-commentaires-2442984
END:VEVENT
END:VCALENDAR
